BEGIN:VCALENDAR
VERSION:2.0
PRODID:-//aFe POWER Blog, News &amp; Events - ECPv6.15.20//NONSGML v1.0//EN
CALSCALE:GREGORIAN
METHOD:PUBLISH
X-ORIGINAL-URL:https://blog.afepower.com
X-WR-CALDESC:Events for aFe POWER Blog, News &amp; Events
REFRESH-INTERVAL;VALUE=DURATION:PT1H
X-Robots-Tag:noindex
X-PUBLISHED-TTL:PT1H
BEGIN:VTIMEZONE
TZID:America/Los_Angeles
BEGIN:DAYLIGHT
TZOFFSETFROM:-0800
TZOFFSETTO:-0700
TZNAME:PDT
DTSTART:20250309T100000
END:DAYLIGHT
BEGIN:STANDARD
TZOFFSETFROM:-0700
TZOFFSETTO:-0800
TZNAME:PST
DTSTART:20251102T090000
END:STANDARD
BEGIN:DAYLIGHT
TZOFFSETFROM:-0800
TZOFFSETTO:-0700
TZNAME:PDT
DTSTART:20260308T100000
END:DAYLIGHT
BEGIN:STANDARD
TZOFFSETFROM:-0700
TZOFFSETTO:-0800
TZNAME:PST
DTSTART:20261101T090000
END:STANDARD
BEGIN:DAYLIGHT
TZOFFSETFROM:-0800
TZOFFSETTO:-0700
TZNAME:PDT
DTSTART:20270314T100000
END:DAYLIGHT
BEGIN:STANDARD
TZOFFSETFROM:-0700
TZOFFSETTO:-0800
TZNAME:PST
DTSTART:20271107T090000
END:STANDARD
END:VTIMEZONE
BEGIN:VEVENT
DTSTART;TZID=America/Los_Angeles:20260221T100000
DTEND;TZID=America/Los_Angeles:20260221T130000
DTSTAMP:20260421T083020
CREATED:20260210T183454Z
LAST-MODIFIED:20260210T190316Z
UID:10000109-1771668000-1771678800@blog.afepower.com
SUMMARY:Aerowerkz Post-SEMA Meet - Industry\, CA
DESCRIPTION:This event is a celebration of Chinese New Year combined with a Post-SEMA showcase\, bringing together automotive enthusiasts\, industry partners\, and the general public. The goal is to highlight SEMA builds\, feature trusted brands\, and create an engaging community-driven experience. \nEvent Details:\n📍 Location: Aerowerkz – 17909 Rowland St\, City of Industry\, CA 91748\n📅 Date: Saturday\, February 21\, 2025\n⏰ Time: TBD (to be confirmed closer to event date) \nEvent Highlights Include:\n• SEMA vehicle showcase\n• Vendor booths & product displays\n• Food & drink vendors\n• Raffles\, games\, and giveaways \nAerowerkz Event flyer on instagram : https://www.instagram.com/p/DUUyUdAldjg/?img_index=1\nFacebook event: https://www.facebook.com/events/902466035812071/
URL:https://blog.afepower.com/event/aerowerkz-post-sema-meet-industry-ca/
LOCATION:Aerowerks\, 17909 Rowland St.\, City of Industry\, 91748\, United States
CATEGORIES:Outside Car Shows
ATTACH;FMTTYPE=image/jpeg:https://blog.afepower.com/wp-content/uploads/2026/02/aerowerkz-show.jpg
END:VEVENT
END:VCALENDAR