BEGIN:VCALENDAR
VERSION:2.0
PRODID:-//aFe POWER Blog, News &amp; Events - ECPv6.15.20//NONSGML v1.0//EN
CALSCALE:GREGORIAN
METHOD:PUBLISH
X-ORIGINAL-URL:https://blog.afepower.com
X-WR-CALDESC:Events for aFe POWER Blog, News &amp; Events
REFRESH-INTERVAL;VALUE=DURATION:PT1H
X-Robots-Tag:noindex
X-PUBLISHED-TTL:PT1H
BEGIN:VTIMEZONE
TZID:America/Los_Angeles
BEGIN:DAYLIGHT
TZOFFSETFROM:-0800
TZOFFSETTO:-0700
TZNAME:PDT
DTSTART:20230312T100000
END:DAYLIGHT
BEGIN:STANDARD
TZOFFSETFROM:-0700
TZOFFSETTO:-0800
TZNAME:PST
DTSTART:20231105T090000
END:STANDARD
BEGIN:DAYLIGHT
TZOFFSETFROM:-0800
TZOFFSETTO:-0700
TZNAME:PDT
DTSTART:20240310T100000
END:DAYLIGHT
BEGIN:STANDARD
TZOFFSETFROM:-0700
TZOFFSETTO:-0800
TZNAME:PST
DTSTART:20241103T090000
END:STANDARD
BEGIN:DAYLIGHT
TZOFFSETFROM:-0800
TZOFFSETTO:-0700
TZNAME:PDT
DTSTART:20250309T100000
END:DAYLIGHT
BEGIN:STANDARD
TZOFFSETFROM:-0700
TZOFFSETTO:-0800
TZNAME:PST
DTSTART:20251102T090000
END:STANDARD
BEGIN:DAYLIGHT
TZOFFSETFROM:-0800
TZOFFSETTO:-0700
TZNAME:PDT
DTSTART:20260308T100000
END:DAYLIGHT
BEGIN:STANDARD
TZOFFSETFROM:-0700
TZOFFSETTO:-0800
TZNAME:PST
DTSTART:20261101T090000
END:STANDARD
END:VTIMEZONE
BEGIN:VEVENT
DTSTART;TZID=America/Los_Angeles:20240907T120000
DTEND;TZID=America/Los_Angeles:20240907T190000
DTSTAMP:20260423T171224
CREATED:20240828T205549Z
LAST-MODIFIED:20240906T202215Z
UID:10000070-1725710400-1725735600@blog.afepower.com
SUMMARY:Bimmer Invasion - Sept 7th @ Irwindale Speedway
DESCRIPTION:Bimmer INVASION presents the INVASION of Los Angeles! This event caters to BMW enthusiasts and focuses on bringing the BMW community together. Some of the day’s festivities include a judged car show\, burnout competition\, exhaust competition\, drift competition and drag racing. An award ceremony will conclude the day. All of your favorite vendors will be onsite showcasing their latest and greatest products and services! \nCome join us to see amazing cars\, and meet new people in the community we all love! \n \n\nSeptember 07\, 2024 12:00 pm to 7pm\nhttps://www.bimmer-invasion.com/events/invasion-of-los-angeles-2024/\n\n			\n			\n				\n				\n				\n				\n				\n				\n				\n				\n				\n				Irwindale Speedway is a 63 acre motorsport facility located right in the center of the Los Angeles basin. This facility offers a ⅛ mile NHRA drag strip that registered participants can utilize\, along with a burnout box that will host both the Burnout & Exhaust competition. Irwindale is conveniently located in the heart of the San Gabriel Valley\, being 30 minutes away from downtown Los Angeles\, Universal Studios\, and Disneyland. \nIt is off the 605 FWY\, off the Live Oak Ave. exit.  \n			\n				\n				\n				\n				\n				View map below
URL:https://blog.afepower.com/event/bimmer-invasion-sept-7th-irwindale-speedway/
LOCATION:Irwindale Speedway\, 500 Speedway Dr.\, Irwindale\, CA\, 91706
CATEGORIES:Outside Car Shows,Tradeshows
ATTACH;FMTTYPE=image/gif:https://blog.afepower.com/wp-content/uploads/2024/08/bimmer-invasion.gif
END:VEVENT
BEGIN:VEVENT
DTSTART;VALUE=DATE:20250821
DTEND;VALUE=DATE:20250824
DTSTAMP:20260423T171224
CREATED:20250319T213853Z
LAST-MODIFIED:20250811T171037Z
UID:10000091-1755734400-1755993599@blog.afepower.com
SUMMARY:Great Smoky Mountain Jeep® Club Invasion
DESCRIPTION:It’s a Smoky Mountain Jeep® Thing \n\n\n\n\nOpen to ALL Jeep® enthusiasts and Jeep® Clubs throughout the nation\, the Smoky Mountain Jeep® Invasion is an Expo for all leading Jeep® parts and their accessory vendors\, including a Jeep® Show where several trophies are awarded. Visit the Merch tab to express your style and own the moment with authentic Invasion™ merchandise available at Club Member pricing. \nTo receive more information about becoming a vendor at the Invasion™ please send an email to jeepinvasion@gmail.com  including the following information: company name\, website\, contact information and what Jeep® related part or service you plan to offer.
URL:https://blog.afepower.com/event/great-smoky-mountain-jeep-club-invasion/
LOCATION:LeConte Center\, 2986 Teaster Lane\, Pigeon Forge\, TN\, 37863\, United States
CATEGORIES:Outside Car Shows
ATTACH;FMTTYPE=image/png:https://blog.afepower.com/wp-content/uploads/2025/03/Jeep-Invasion-2025.png
END:VEVENT
BEGIN:VEVENT
DTSTART;TZID=America/Los_Angeles:20250906T130000
DTEND;TZID=America/Los_Angeles:20250906T190000
DTSTAMP:20260423T171224
CREATED:20250708T162359Z
LAST-MODIFIED:20250826T175649Z
UID:10000096-1757163600-1757185200@blog.afepower.com
SUMMARY:Bimmer Invasion - Sept 6th @ Pomona Fairplex
DESCRIPTION:Bimmer INVASION returns to Los Angeles at an all new venue\, Fairplex Pomona Fairgrounds! This venue offers 250\,000 sq feet of indoor space. We will have 5 dedicated exhibit halls with 5 separate themes. This will be the most curated INVASION yet! \nCome join us to see amazing cars\, and meet new people in the community we all love! \n \n\nSeptember 06\, 2025 @ 1pm to 7pm\nhttps://www.bimmer-invasion.com/events/invasion-of-los-angeles-2025/\n\n			\n			\n				\n				\n				\n				\n				\n				\n				\n				\n				\n				Pomona Fairplex\nFairplex Pomona Fairgrounds is a 543 acre fairground that is the home of the LA County Fair. This facility offers over 250\,000 sq ft of indoor space for show cars and vendors to be on display. There will be 5 different exhibit halls with 5 different themes. This will be the most curated INVASION yet! \n			\n				\n				\n				\n				\n				\nView map below
URL:https://blog.afepower.com/event/bimmer-invasion-sept-7th-irwindale-speedway-2/
LOCATION:Pomona Fairplex\, 1101 W McKinley Ave.\, Pomona\, CA\, 91768
CATEGORIES:Outside Car Shows,Tradeshows
ATTACH;FMTTYPE=image/jpeg:https://blog.afepower.com/wp-content/uploads/2025/07/Facebook-Bimmer-Inv-.jpg
END:VEVENT
END:VCALENDAR