BEGIN:VCALENDAR
VERSION:2.0
PRODID:-//aFe POWER Blog, News &amp; Events - ECPv6.15.20//NONSGML v1.0//EN
CALSCALE:GREGORIAN
METHOD:PUBLISH
X-WR-CALNAME:aFe POWER Blog, News &amp; Events
X-ORIGINAL-URL:https://blog.afepower.com
X-WR-CALDESC:Events for aFe POWER Blog, News &amp; Events
REFRESH-INTERVAL;VALUE=DURATION:PT1H
X-Robots-Tag:noindex
X-PUBLISHED-TTL:PT1H
BEGIN:VTIMEZONE
TZID:America/Los_Angeles
BEGIN:DAYLIGHT
TZOFFSETFROM:-0800
TZOFFSETTO:-0700
TZNAME:PDT
DTSTART:20230312T100000
END:DAYLIGHT
BEGIN:STANDARD
TZOFFSETFROM:-0700
TZOFFSETTO:-0800
TZNAME:PST
DTSTART:20231105T090000
END:STANDARD
BEGIN:DAYLIGHT
TZOFFSETFROM:-0800
TZOFFSETTO:-0700
TZNAME:PDT
DTSTART:20240310T100000
END:DAYLIGHT
BEGIN:STANDARD
TZOFFSETFROM:-0700
TZOFFSETTO:-0800
TZNAME:PST
DTSTART:20241103T090000
END:STANDARD
BEGIN:DAYLIGHT
TZOFFSETFROM:-0800
TZOFFSETTO:-0700
TZNAME:PDT
DTSTART:20250309T100000
END:DAYLIGHT
BEGIN:STANDARD
TZOFFSETFROM:-0700
TZOFFSETTO:-0800
TZNAME:PST
DTSTART:20251102T090000
END:STANDARD
END:VTIMEZONE
BEGIN:VEVENT
DTSTART;VALUE=DATE:20240920
DTEND;VALUE=DATE:20240923
DTSTAMP:20260425T061900
CREATED:20240801T191337Z
LAST-MODIFIED:20240920T230643Z
UID:10000068-1726790400-1727049599@blog.afepower.com
SUMMARY:Sand Sports Super Show OC: Fri-Sun\, Sept 20-22
DESCRIPTION:The World’s Biggest Sand Sports Expo\nEach September\, hundreds of exhibitors and thousands of attendees come together at the Orange County Fair & Event Center in Costa Mesa\, California\, for the biggest and most exciting dune and dirt sports EXPO in the world. \nJoin us for three days of fun and get up close to the latest Sand Rails\, ATVs\, UTVs/Side x Sides\, accessories\, apparel and a whole lot more! Take part in the world’s largest sand sports expo! \n			\n				\n				\n				\n				\n				aFe POWER will be bringing the heat! Come visit our booth!\n			\n			\n				\n				\n				\n				\n			\n				\n				\n				\n				\n				\n				\n				\n				\n				\n				\n				\n			\n			\n				\n				\n				\n				\n			\n				\n				\n				\n				\n				\n				\n				\n				\n				\n				\n				September 20-22\, 2024\n\nFriday: 4:00 pm – 10:00 pm\nSaturday: 9:00 am – 7:00 pm\nSunday: 9:00 am – 4:00 pm\n\n			\n			\n				\n				\n				\n				\n				\n				\n				\n				\n				\n				OC Fair & Event Center\n\n88 Fair Dr\, Costa Mesa\, CA 92626\nSandSportsSuperShow.com
URL:https://blog.afepower.com/event/sand-sports-super-show-oc-fri-sun-sept-20-22/
LOCATION:OC Fair & Event Center\, 88 Fair Dr.\, Costa Mesa\, CA\, 92626\, United States
CATEGORIES:Outside Car Shows
ATTACH;FMTTYPE=image/jpeg:https://blog.afepower.com/wp-content/uploads/2024/08/Mobile_Sandsport-booth.jpg
END:VEVENT
BEGIN:VEVENT
DTSTART;VALUE=DATE:20240517
DTEND;VALUE=DATE:20240520
DTSTAMP:20260425T061900
CREATED:20240424T180023Z
LAST-MODIFIED:20240809T211910Z
UID:10000058-1715904000-1716163199@blog.afepower.com
SUMMARY:Overland Expo West 2024
DESCRIPTION:THE WORLD’S PREMIER OVERLANDING EVENT SERIES\n\n\n			\n				\n				\n				\n				\n				\n\nOverland Expo® is the premier overlanding event series in the world—no other event offers the scope of classes taught by the world’s leading experts alongside a professional-level trade show that brings together all the camping and vehicle and motorcycle equipment and services you need to Get Outfitted. Get Trained. Get Inspired. Get Going. \n\n\n			\n			\n				\n				\n				\n				\n			\n				\n				\n				\n				\n				\n				\n				\n				\n				\n				\n				\n			\n			\n				\n				\n				\n				\n				\n				\n				\n				\n				\n				aFe POWER will be exhibiting at the Overland Expo West!\n			\n				Buy Tickets\n			\n			\n				\n				\n				\n				\n			\n				\n				\n				\n				\n				\n				\n				\n				\n				\n				\n				MAY 17-19\, 2024   /   FRI 8-5   |   SAT 8-5   |   SUN 9-3\nFT. TUTHILL COUNTY PARK FLAGSTAFF\, AZ\, USA\n			\n				Google Maps\n			\n			\n				\n				\n				\n				\n			\n				\n				\n			\n				\n				\n				\n				\n				\n				\n				\n				\n				\n				\n				\n				\n				\n				\n				\n				\n				\n				\n			\n				\n				\n				\n				\n				aFe POWER   |   Booth P40  |   Near Navajo Ramada\n			\n				\n				\n				\n				\n				\n			\n			\n				\n				\n				\n				\n			\n				\n				\n			\n				\n				\n				\n				\n				\n				\n				\n				\n				\n				\n				\n				\n				\n				\n				\n				\n				\n				Event Schedule\n			\n			\n				\n				\n				\n				\n			\n				\n				\n				\n				\n				\n				\n				\n				\n				\n				\n				FRIDAY\, MAY 17\, 2024\n\n\n8am-5pm: Show Hours \n\n400+ Exhibitors\nEducational Programming\nMotorcycle Demos\nINEOS Grenadier “Built On Purpose” Ride & Drive Course\nADV Skills Area Sponsored by Fieldcraft Survival \nOasis Bar & Food Court Sponsored by XPLOR\nNavajo Ramada Bar & Food Court Sponsored by ICECO\nRoundtable Pavilion Sponsored by Goverland\nCulinary + Backcountry Skills Area Sponsored by Bushwakka Adventure Gear USA\nOverland Essentials Area Sponsored by Goal Zero\nStorytelling Pavilion Sponsored by K&N Filters\n\n11:30am-1:30pm: Launch and Learn Sponsored by Unicat \n5pm-7pm: Maxxis Tires Happy Hour \n7pm-9pm: Rider Justice Moto Party + Raffle \n7pm-9pm: Overland Expo Film Festival Sponsored by GOAT BOXCO \n\n\n			\n			\n				\n				\n				\n				\n				\n				\n				\n				\n				\n				SATURDAY\, MAY 18\, 2024\n\n\n8am-5pm: Show Hours \n\n400+ Exhibitors\nEducational Programming\nMotorcycle Demos\nINEOS Grenadier “Built On Purpose” Ride & Drive Course\nADV Skills Area Sponsored by Fieldcraft Survival\nOasis Bar & Food Court Sponsored by XPLOR\nNavajo Ramada Bar & Food Court Sponsored by ICECO\nRoundtable Pavilion Sponsored by Goverland\nCulinary + Backcountry Skills Area Sponsored by Bushwakka Adventure Gear USA\nOverland Essentials Area Sponsored by Goal Zero\nStorytelling Pavilion Sponsored by K&N Filters\n\n11:30am-1:30pm: Launch and Learn Sponsored by Arctic Trucks North America \n5pm-7pm: Barebones Happy Hour \n7pm-9pm: Overland Expo Foundation Charity Raffle \n\n\n			\n			\n				\n				\n				\n				\n				\n				\n				\n				\n				\n				SUNDAY\, MAY 19\, 2024\n\n\n9am-3pm: Show Hours \n\n400+ Exhibitors\nEducational Programming\nMotorcycle Demos\nINEOS Grenadier “Built On Purpose” Ride & Drive Course\nADV Skills Area Sponsored by Fieldcraft Survival\nOasis Bar & Food Court Sponsored by XPLOR\nNavajo Ramada Bar & Food Court Sponsored by ICECO\nRoundtable Pavilion Sponsored by Goverland\nCulinary + Backcountry Skills Area Sponsored by Bushwakka Adventure Gear USA\nOverland Essentials Area Sponsored by Goal Zero\nStorytelling Pavilion Sponsored by K&N Filters
URL:https://blog.afepower.com/event/overland-expo-west-2024/
LOCATION:Fort Tuthill County Park\, 2446 Ft Tuthill Lp\,\, Flagstaff\, AZ\, 86005\, United States
CATEGORIES:Outside Car Shows,Tradeshows
ATTACH;FMTTYPE=image/png:https://blog.afepower.com/wp-content/uploads/2024/04/overland-expo-2024.png
END:VEVENT
END:VCALENDAR