BEGIN:VCALENDAR
VERSION:2.0
PRODID:-//aFe POWER Blog, News &amp; Events - ECPv6.15.20//NONSGML v1.0//EN
CALSCALE:GREGORIAN
METHOD:PUBLISH
X-WR-CALNAME:aFe POWER Blog, News &amp; Events
X-ORIGINAL-URL:https://blog.afepower.com
X-WR-CALDESC:Events for aFe POWER Blog, News &amp; Events
REFRESH-INTERVAL;VALUE=DURATION:PT1H
X-Robots-Tag:noindex
X-PUBLISHED-TTL:PT1H
BEGIN:VTIMEZONE
TZID:America/Los_Angeles
BEGIN:DAYLIGHT
TZOFFSETFROM:-0800
TZOFFSETTO:-0700
TZNAME:PDT
DTSTART:20240310T100000
END:DAYLIGHT
BEGIN:STANDARD
TZOFFSETFROM:-0700
TZOFFSETTO:-0800
TZNAME:PST
DTSTART:20241103T090000
END:STANDARD
BEGIN:DAYLIGHT
TZOFFSETFROM:-0800
TZOFFSETTO:-0700
TZNAME:PDT
DTSTART:20250309T100000
END:DAYLIGHT
BEGIN:STANDARD
TZOFFSETFROM:-0700
TZOFFSETTO:-0800
TZNAME:PST
DTSTART:20251102T090000
END:STANDARD
BEGIN:DAYLIGHT
TZOFFSETFROM:-0800
TZOFFSETTO:-0700
TZNAME:PDT
DTSTART:20260308T100000
END:DAYLIGHT
BEGIN:STANDARD
TZOFFSETFROM:-0700
TZOFFSETTO:-0800
TZNAME:PST
DTSTART:20261101T090000
END:STANDARD
BEGIN:DAYLIGHT
TZOFFSETFROM:-0800
TZOFFSETTO:-0700
TZNAME:PDT
DTSTART:20270314T100000
END:DAYLIGHT
BEGIN:STANDARD
TZOFFSETFROM:-0700
TZOFFSETTO:-0800
TZNAME:PST
DTSTART:20271107T090000
END:STANDARD
END:VTIMEZONE
BEGIN:VEVENT
DTSTART;VALUE=DATE:20250530
DTEND;VALUE=DATE:20250602
DTSTAMP:20260425T060040
CREATED:20250319T213313Z
LAST-MODIFIED:20250319T213735Z
UID:10000090-1748563200-1748822399@blog.afepower.com
SUMMARY:Ultimate Callout Challenge 2025
DESCRIPTION:The Ultimate Callout Challenge started in 2016. This is the premier event of the diesel industry. With three days of nonstop action\, this is the event to attend if you are a racing fan. \nWelcome to the Ultimate Callout Challenge (UCC)\, the premier event in the diesel industry since 2016! As we gear up for our ninth incredible year\, we’re excited to continue our tradition of delivering the most thrilling\, action-packed experience for diesel enthusiasts and racing fans alike. \nOur event spans three exhilarating days\, packed with nonstop excitement and competition. In 2024\, we welcomed over 30\,000 passionate fans and hosted more than 300 skilled racers. The UCC is not just a race; it’s a celebration of diesel power and performance. From 600 stunning Show N Shine trucks to 150 fan dyno entries\, and a diverse lineup of over 100 vendors\, we’ve got something for everyone. \nBut that’s not all. Our event features high-octane burnout contests\, intense sled pulls\, and endless opportunities to connect with fellow diesel aficionados. Whether you’re a seasoned racer or a curious newcomer\, the UCC promises an unforgettable experience. \nJoin us this year to witness the ultimate showdown in diesel performance and immerse yourself in the vibrant world of diesel racing. Don’t miss out on the action—mark your calendars and get ready for an epic event that only the UCC can deliver! \nFor more information and updates\, stay tuned to our website and follow us on social media. See you at the Ultimate Callout Challenge!
URL:https://blog.afepower.com/event/ultimate-callout-challenge-2025/
LOCATION:Lucas Oil Raceway\, 10267 US Hwy 136\, Indianapolis\, IN\, 46234\, United States
CATEGORIES:Outside Car Shows
ATTACH;FMTTYPE=image/png:https://blog.afepower.com/wp-content/uploads/2025/03/UCC-2025.png
ORGANIZER;CN="UCC":MAILTO:CHRIS@DPIEXPO.COM
END:VEVENT
BEGIN:VEVENT
DTSTART;TZID=America/Los_Angeles:20250615T090000
DTEND;TZID=America/Los_Angeles:20250615T110000
DTSTAMP:20260425T060040
CREATED:20250207T181310Z
LAST-MODIFIED:20250516T215039Z
UID:10000082-1749978000-1749985200@blog.afepower.com
SUMMARY:Dads & Grads Cars & Café: Corona\, CA
DESCRIPTION:Celebrating Grads and Dads!\nAll Vehicles Welcome.\naFe POWER Cars & CaFé – Sunday\, June 15\, 2025\nWe welcome everyone in the SoCal area to our Father’s Day and Graduation Day Cars and Coffee event! Come for free coffee and donuts\, taco truck\, and a prize-packed raffle full of free aFe POWER swag! Spread the word with your car friends on Facebook and Instagram on our next Cars & CaFé. See our monthly calendar for future events. We look forward to seeing you!
URL:https://blog.afepower.com/event/dads-and-grades-cars-cafe-june-15th/
LOCATION:aFe POWER Cars & Cafe\, 1375 Sampson\, Corona\, CA\, 92879\, United States
CATEGORIES:Cars & Cafe Shows
ATTACH;FMTTYPE=image/jpeg:https://blog.afepower.com/wp-content/uploads/2025/02/Facebook-cars-CAFE-june.jpg
END:VEVENT
BEGIN:VEVENT
DTSTART;VALUE=DATE:20251104
DTEND;VALUE=DATE:20251108
DTSTAMP:20260425T060040
CREATED:20250220T224539Z
LAST-MODIFIED:20251009T203259Z
UID:10000086-1762214400-1762559999@blog.afepower.com
SUMMARY:SEMA 2025: Las Vegas\, NV
DESCRIPTION:The SEMA Show takes place:  \n			\n				\n				\n				\n				\n				\nNovember 4-7\, 2025\nLas Vegas Convention Center\n3150 Paradise Road\, Las Vegas\, NV 89109\nhttps://www.semashow.com/\naFe POWER Booth # 23343\nThe SEMA Show is a trade-only event and only open to the general public on Friday\, November 7th.\nhttps://www.semashow.com/public\n\n			\n			\n				\n				\n				\n				\n			\n				\n				\n			\n				\n				\n				\n				\n				\n				\n				\n				\n				\n				\n				\n				\n				\n				\n				\n				\n				\n				 \n \n \nABOUT THE SEMA SHOW\nThere is no other trade show on the planet where you can see thousands of product innovations from new and iconic exhibitors\, experience the latest custom vehicle trends\, get access to free professional skill-enhancing education sessions and make career-changing connections.
URL:https://blog.afepower.com/event/sema-2025-las-vegas-nv-nov-4-7/
LOCATION:Las Vegas Convention Center\, 3150 Paradise Rd.\, Las Vegas\, NV\, 89109\, United States
CATEGORIES:Outside Car Shows,Tradeshows
ATTACH;FMTTYPE=image/png:https://blog.afepower.com/wp-content/uploads/2024/06/sema-show-vector-logo-2.png
ORGANIZER;CN="SEMA":MAILTO:semashow@sema.org
END:VEVENT
BEGIN:VEVENT
DTSTART;TZID=America/Los_Angeles:20251123T080000
DTEND;TZID=America/Los_Angeles:20251123T110000
DTSTAMP:20260425T060040
CREATED:20251008T214755Z
LAST-MODIFIED:20251015T204117Z
UID:10000099-1763884800-1763895600@blog.afepower.com
SUMMARY:GR Movement @ Longo Toyota
DESCRIPTION:Toy Drive & Car Show\n\nSunday\, November 23\, 2025\n8:00 AM  11:00 AM\nhttps://www.gr-movement.com/events/toy-drive-car-show-1\n\n\n\n\n\n\n\n\n\n\n\n\n\n			\n				\n				\n				\n				\n				\n\n\n\n\n\n\n\nJoin us for our Annual GRM x Longo Toyota/Longo Lexus Toy Drive!\nThis is the best time of the year for us because we get to give back to the community! All donations will be donated to Sonkei Blue Tots On Patrol (LAPD) and The Hope House. We will have display cars from SEMA and GTA (Global Time Attack) in attendance\, as well as more amazing builds. There will also be some amazing food vendors\, music\, activities\, and more… \nSo\, don’t miss out and register your car today! ALL MAKES AND MODELS ARE WELCOME! \n***FOR EVERY $15 DOLLAR OR MORE UNWRAPPED BRAND NEW TOY RECEIVE A RAFFLE TICKET. ADDITIONAL TICKETS WILL BE AVAILABLE AT $5 EACH***
URL:https://blog.afepower.com/event/gr-movement-longo-toyota/
LOCATION:Longo Toyota\, 3534 Peck Rd.\, El Monte\, CA\, 91731
CATEGORIES:Outside Car Shows
ATTACH;FMTTYPE=image/png:https://blog.afepower.com/wp-content/uploads/2025/10/GR-Movement.png
END:VEVENT
BEGIN:VEVENT
DTSTART;TZID=America/Los_Angeles:20251220T090000
DTEND;TZID=America/Los_Angeles:20251220T160000
DTSTAMP:20260425T060040
CREATED:20251119T010733Z
LAST-MODIFIED:20251215T230606Z
UID:10000100-1766221200-1766246400@blog.afepower.com
SUMMARY:RodeoXRigs: King Shock Toy Drive (Garden Grove\, CA)
DESCRIPTION:Saturday\, December 20\, 2025\n\n\n9:00 AM  4:00 PM\n\n\n\n\n\n\nFREE TO The PUBLIC\n\n\n\n\n\n\n\n\nAll Families\, pets\, Rigs and Builds Welcome!\nAn event was born \nLaunched 2023\, the Toy Drive began as a grassroots effort by a few passionate off-road groups in partnership with King Shocks and the City of Garden Grove. United by a shared mission to make a difference\, the team organized a free for the community toy drive benefiting the Children’s Hospital of Orange County (CHOC) and the rest was history. \nWays to Contribute\nYou can contribute to this cause in three ways. One way is bringing an unwrapped toy to be exchanged for a raffle ticket to win prizes donated by our awesome sponsors. The second is raffle tickets will be available for purchase during the event and will also enter you into the raffle. The third is signing up your vehicle for the showcase. Here you can display your build with all the money raised being donated to La Casa. \nNon-Profit Orgs\nAttending this event is more than just fun—it’s a meaningful way to give back\, bring joy to children in need\, and help strengthen the bonds that hold our community together. \nYour support directly provides toys for underserved families and helps fund local nonprofits through event raffles.We are proud to have partnered with multiple non-profit organizations and remain committed to continuing our mission of giving back to the community—together\, we can create lasting impact.
URL:https://blog.afepower.com/event/rodeo-xrigs-the-king-shock-toy-drive-dec-20/
LOCATION:Kings Shocks\, 12472 Edison Way\, Garden Grove\, CA\, 92841
ATTACH;FMTTYPE=image/jpeg:https://blog.afepower.com/wp-content/uploads/2025/03/logo-RodeoXRigs.jpg
END:VEVENT
BEGIN:VEVENT
DTSTART;TZID=America/Los_Angeles:20260228T160000
DTEND;TZID=America/Los_Angeles:20260228T220000
DTSTAMP:20260425T060040
CREATED:20260210T173335Z
LAST-MODIFIED:20260211T185621Z
UID:10000107-1772294400-1772316000@blog.afepower.com
SUMMARY:Cali Creaming - LA Convention Center\, CA
DESCRIPTION:Cali Creaming is a big\, energy-packed car culture event/car show series that’s grown into a popular automotive lifestyle gathering — especially in California and other Western states. It’s not just your typical static show; it blends show cars\, activities\, vendors\, music\, and community vibes into one automotive-centric experience. \n• A car show and automotive lifestyle event that attracts enthusiasts of all types: imports\, domestics\, Euro\, JDM\, stance cars\, performance builds\, and custom rides.• It’s all about celebrating car culture\, meeting other enthusiasts\, showing off vehicles\, and enjoying activities together.• These events are usually family-friendly and community oriented\, with a relaxed\, fun vibe and plenty of things to do beyond just looking at cars \nhttps://www.instagram.com/CALICREAMING/ \n 
URL:https://blog.afepower.com/event/32018/
LOCATION:Los Angeles Convention Center\, 1201 S Figueroa St.\, Los Angeles\, 90015\, United States
CATEGORIES:Outside Car Shows
ATTACH;FMTTYPE=image/webp:https://blog.afepower.com/wp-content/uploads/2026/02/Cali-Creaming-2026.webp
END:VEVENT
BEGIN:VEVENT
DTSTART;VALUE=DATE:20260502
DTEND;VALUE=DATE:20260503
DTSTAMP:20260425T060040
CREATED:20260210T180453Z
LAST-MODIFIED:20260424T220754Z
UID:10000108-1777680000-1777766399@blog.afepower.com
SUMMARY:Throtl Throwdown - Mohnton\, PA
DESCRIPTION:The throtl Throwdown is a high-octane automotive event scheduled for May 2\, 2026\, at Maple Grove Raceway in Mohnton\, PA. It features a head-to-head “Import vs. Domestic” 1/4 mile drag racing competition\, highlighting popular creators and car influencers. The event promises intense competition\, bringing together automotive culture\, brands\, and top-tier car builds.  \n\nLocation: Maple Grove Raceway\, 30 Stauffer Park Lane\, Mohnton\, PA.
URL:https://blog.afepower.com/event/turn5-driven-to-serve-muscle-car-jeep-truck-show-mohnton-pa/
LOCATION:Maple Grove Raceway\, 30 Stauffer Park Ln\, Mohnton\, PA\, 19540
CATEGORIES:Outside Car Shows
ATTACH;FMTTYPE=image/webp:https://blog.afepower.com/wp-content/uploads/2026/02/1_throtl_throwdown_landing_page_main_header_desktop.webp
END:VEVENT
END:VCALENDAR