BEGIN:VCALENDAR
VERSION:2.0
PRODID:-//aFe POWER Blog, News &amp; Events - ECPv6.15.20//NONSGML v1.0//EN
CALSCALE:GREGORIAN
METHOD:PUBLISH
X-WR-CALNAME:aFe POWER Blog, News &amp; Events
X-ORIGINAL-URL:https://blog.afepower.com
X-WR-CALDESC:Events for aFe POWER Blog, News &amp; Events
REFRESH-INTERVAL;VALUE=DURATION:PT1H
X-Robots-Tag:noindex
X-PUBLISHED-TTL:PT1H
BEGIN:VTIMEZONE
TZID:America/Los_Angeles
BEGIN:DAYLIGHT
TZOFFSETFROM:-0800
TZOFFSETTO:-0700
TZNAME:PDT
DTSTART:20220313T100000
END:DAYLIGHT
BEGIN:STANDARD
TZOFFSETFROM:-0700
TZOFFSETTO:-0800
TZNAME:PST
DTSTART:20221106T090000
END:STANDARD
BEGIN:DAYLIGHT
TZOFFSETFROM:-0800
TZOFFSETTO:-0700
TZNAME:PDT
DTSTART:20230312T100000
END:DAYLIGHT
BEGIN:STANDARD
TZOFFSETFROM:-0700
TZOFFSETTO:-0800
TZNAME:PST
DTSTART:20231105T090000
END:STANDARD
BEGIN:DAYLIGHT
TZOFFSETFROM:-0800
TZOFFSETTO:-0700
TZNAME:PDT
DTSTART:20240310T100000
END:DAYLIGHT
BEGIN:STANDARD
TZOFFSETFROM:-0700
TZOFFSETTO:-0800
TZNAME:PST
DTSTART:20241103T090000
END:STANDARD
END:VTIMEZONE
BEGIN:VEVENT
DTSTART;TZID=America/Los_Angeles:20230312T090000
DTEND;TZID=America/Los_Angeles:20230312T110000
DTSTAMP:20260422T223416
CREATED:20230207T233721Z
LAST-MODIFIED:20230214T215231Z
UID:10000043-1678611600-1678618800@blog.afepower.com
SUMMARY:Cars & CaFe March 2023
DESCRIPTION:Save the date! \nJoin us on Sunday March 12th\, 2023 from 9am-11am for aFe POWER Cars & Coffee event. Donuts\, Coffee\, and Water will be provided. \nBring your friends and family to join the fun! All makes and models are welcome. 
URL:https://blog.afepower.com/event/cars-cafe/
LOCATION:aFe POWER Cars & Cafe\, 1375 Sampson\, Corona\, CA\, 92879\, United States
CATEGORIES:Cars & Cafe Shows
ATTACH;FMTTYPE=image/jpeg:https://blog.afepower.com/wp-content/uploads/2023/02/Desktop-cars-cafe-03_12-scaled.jpg
END:VEVENT
END:VCALENDAR