BEGIN:VCALENDAR
VERSION:2.0
PRODID:-//aFe POWER Blog, News &amp; Events - ECPv6.15.20//NONSGML v1.0//EN
CALSCALE:GREGORIAN
METHOD:PUBLISH
X-WR-CALNAME:aFe POWER Blog, News &amp; Events
X-ORIGINAL-URL:https://blog.afepower.com
X-WR-CALDESC:Events for aFe POWER Blog, News &amp; Events
REFRESH-INTERVAL;VALUE=DURATION:PT1H
X-Robots-Tag:noindex
X-PUBLISHED-TTL:PT1H
BEGIN:VTIMEZONE
TZID:America/Los_Angeles
BEGIN:DAYLIGHT
TZOFFSETFROM:-0800
TZOFFSETTO:-0700
TZNAME:PDT
DTSTART:20210314T100000
END:DAYLIGHT
BEGIN:STANDARD
TZOFFSETFROM:-0700
TZOFFSETTO:-0800
TZNAME:PST
DTSTART:20211107T090000
END:STANDARD
BEGIN:DAYLIGHT
TZOFFSETFROM:-0800
TZOFFSETTO:-0700
TZNAME:PDT
DTSTART:20220313T100000
END:DAYLIGHT
BEGIN:STANDARD
TZOFFSETFROM:-0700
TZOFFSETTO:-0800
TZNAME:PST
DTSTART:20221106T090000
END:STANDARD
BEGIN:DAYLIGHT
TZOFFSETFROM:-0800
TZOFFSETTO:-0700
TZNAME:PDT
DTSTART:20230312T100000
END:DAYLIGHT
BEGIN:STANDARD
TZOFFSETFROM:-0700
TZOFFSETTO:-0800
TZNAME:PST
DTSTART:20231105T090000
END:STANDARD
END:VTIMEZONE
BEGIN:VEVENT
DTSTART;VALUE=DATE:20221124
DTEND;VALUE=DATE:20221126
DTSTAMP:20260422T180156
CREATED:20220926T175016Z
LAST-MODIFIED:20221001T000151Z
UID:10000036-1669248000-1669420799@blog.afepower.com
SUMMARY:Thanksgiving Day
DESCRIPTION:
URL:https://blog.afepower.com/event/thanksgiving-weekend/
LOCATION:CA
ATTACH;FMTTYPE=image/png:https://blog.afepower.com/wp-content/uploads/2022/09/holidays-thanksgiving.png
END:VEVENT
BEGIN:VEVENT
DTSTART;TZID=America/Los_Angeles:20221211T090000
DTEND;TZID=America/Los_Angeles:20221211T120000
DTSTAMP:20260422T180156
CREATED:20220926T174700Z
LAST-MODIFIED:20221208T005811Z
UID:10000024-1670749200-1670760000@blog.afepower.com
SUMMARY:CANCELLED: Cars & CaFe: Sun\, Dec 11\, 2022
DESCRIPTION:Unfortunately\, due to the rain\, this event is canceled. Thank you for understanding.
URL:https://blog.afepower.com/event/cars-cafe-dec-11-2022/
LOCATION:aFe POWER Cars & Cafe\, 1375 Sampson\, Corona\, CA\, 92879\, United States
CATEGORIES:Cars & Cafe Shows
ATTACH;FMTTYPE=image/png:https://blog.afepower.com/wp-content/uploads/2022/09/CANCELLED-CARS-COFFEE.png
END:VEVENT
END:VCALENDAR