BEGIN:VCALENDAR
VERSION:2.0
PRODID:-//aFe POWER Blog, News &amp; Events - ECPv6.15.20//NONSGML v1.0//EN
CALSCALE:GREGORIAN
METHOD:PUBLISH
X-WR-CALNAME:aFe POWER Blog, News &amp; Events
X-ORIGINAL-URL:https://blog.afepower.com
X-WR-CALDESC:Events for aFe POWER Blog, News &amp; Events
REFRESH-INTERVAL;VALUE=DURATION:PT1H
X-Robots-Tag:noindex
X-PUBLISHED-TTL:PT1H
BEGIN:VTIMEZONE
TZID:America/Los_Angeles
BEGIN:DAYLIGHT
TZOFFSETFROM:-0800
TZOFFSETTO:-0700
TZNAME:PDT
DTSTART:20210314T100000
END:DAYLIGHT
BEGIN:STANDARD
TZOFFSETFROM:-0700
TZOFFSETTO:-0800
TZNAME:PST
DTSTART:20211107T090000
END:STANDARD
BEGIN:DAYLIGHT
TZOFFSETFROM:-0800
TZOFFSETTO:-0700
TZNAME:PDT
DTSTART:20220313T100000
END:DAYLIGHT
BEGIN:STANDARD
TZOFFSETFROM:-0700
TZOFFSETTO:-0800
TZNAME:PST
DTSTART:20221106T090000
END:STANDARD
BEGIN:DAYLIGHT
TZOFFSETFROM:-0800
TZOFFSETTO:-0700
TZNAME:PDT
DTSTART:20230312T100000
END:DAYLIGHT
BEGIN:STANDARD
TZOFFSETFROM:-0700
TZOFFSETTO:-0800
TZNAME:PST
DTSTART:20231105T090000
END:STANDARD
BEGIN:DAYLIGHT
TZOFFSETFROM:-0800
TZOFFSETTO:-0700
TZNAME:PDT
DTSTART:20240310T100000
END:DAYLIGHT
BEGIN:STANDARD
TZOFFSETFROM:-0700
TZOFFSETTO:-0800
TZNAME:PST
DTSTART:20241103T090000
END:STANDARD
BEGIN:DAYLIGHT
TZOFFSETFROM:-0800
TZOFFSETTO:-0700
TZNAME:PDT
DTSTART:20250309T100000
END:DAYLIGHT
BEGIN:STANDARD
TZOFFSETFROM:-0700
TZOFFSETTO:-0800
TZNAME:PST
DTSTART:20251102T090000
END:STANDARD
BEGIN:DAYLIGHT
TZOFFSETFROM:-0800
TZOFFSETTO:-0700
TZNAME:PDT
DTSTART:20260308T100000
END:DAYLIGHT
BEGIN:STANDARD
TZOFFSETFROM:-0700
TZOFFSETTO:-0800
TZNAME:PST
DTSTART:20261101T090000
END:STANDARD
BEGIN:DAYLIGHT
TZOFFSETFROM:-0800
TZOFFSETTO:-0700
TZNAME:PDT
DTSTART:20270314T100000
END:DAYLIGHT
BEGIN:STANDARD
TZOFFSETFROM:-0700
TZOFFSETTO:-0800
TZNAME:PST
DTSTART:20271107T090000
END:STANDARD
END:VTIMEZONE
BEGIN:VEVENT
DTSTART;TZID=America/Los_Angeles:20220828T090000
DTEND;TZID=America/Los_Angeles:20220828T130000
DTSTAMP:20260425T165947
CREATED:20220822T181011Z
LAST-MODIFIED:20220825T195245Z
UID:10000033-1661677200-1661691600@blog.afepower.com
SUMMARY:TRD Series - GR Movement
DESCRIPTION:This an event is for all Toyota and Lexus enthusiasts hosted at K1 Speedway! Featuring a car show and kart racing tournament with prizes!\nAbout this Event: Admission to the show is free to enter with registration through eventbrite. Any competitors that wish to enter the car show or race will have to pay for registration. Discount is available for all early bird registration. Live music\, Car vendors\, food & drinks will be available on site along with giveaways! \nLocation: K1 Speed – Indoor Go Karts\, Corporate Event Venue\, Team Building Activities | Anaheim\, CA
URL:https://blog.afepower.com/event/trd-series-gr-movement/
LOCATION:Anaheim K1\, 1000 N. Edward Ct.\, Anaheim\, CA\, 92806
CATEGORIES:Outside Car Shows
ATTACH;FMTTYPE=image/jpeg:https://blog.afepower.com/wp-content/uploads/2022/08/TRD-220828.jpeg
END:VEVENT
BEGIN:VEVENT
DTSTART;VALUE=DATE:20221001
DTEND;VALUE=DATE:20221003
DTSTAMP:20260425T165947
CREATED:20220608T223042Z
LAST-MODIFIED:20220915T212009Z
UID:10000028-1664582400-1664755199@blog.afepower.com
SUMMARY:OFF-ROAD Expo presented by General Tire
DESCRIPTION:FAIRPLEX | POMONA\, CA | OCTOBER 1-2\, 2022\nHardcore Fans / Hundreds of Exhibitors | 2 Days of Everything Off-Road\nThe Off-Road Expo Presented by General Tire is truly the greatest collection of off-road companies\, parts\, equipment\, gear\, action and experts ever assembled in America. From off-road racing to rock crawling\, trail riding to sand sports\, motorcycles and UTV’s\, to camping and adventure travel\, fans have the unique opportunity to meet and talk with the most knowledgeable people in the off-road industry.
URL:https://blog.afepower.com/event/22nd-annual-off-road-expo-presented-by-general-tire/
LOCATION:Pomona Fairplex\, 1101 W McKinley Ave.\, Pomona\, CA\, 91768
CATEGORIES:Outside Car Shows
ATTACH;FMTTYPE=image/png:https://blog.afepower.com/wp-content/uploads/2022/06/off-road-expo-2022.png
END:VEVENT
BEGIN:VEVENT
DTSTART;TZID=America/Los_Angeles:20221009T100000
DTEND;TZID=America/Los_Angeles:20221009T160000
DTSTAMP:20260425T165947
CREATED:20220718T160353Z
LAST-MODIFIED:20220912T232631Z
UID:10000029-1665309600-1665331200@blog.afepower.com
SUMMARY:Nissfest: SoCal Irwindale 2022
DESCRIPTION:Celebrating All things Nissan\, Datsun\, and Infiniti!\nNissfest returns to Irwindale California for 2022. Nissfest showcases 2 Car Shows\, Drag Racing\, Drift Exhibition\, Open Skid Pad\, Food\, Live DJ\, Models and Vendors! AFE POWER will be making our presence felt. Come by our booth for prizes! \nRegister for Car Show or other Nissfest activities at https://nissfest.com \n*For discount tickets\, use coupon code: AFE2022
URL:https://blog.afepower.com/event/nissfest-socal-irwindale-2022/
LOCATION:Irwindale Speedway\, 500 Speedway Dr.\, Irwindale\, CA\, 91706
CATEGORIES:Outside Car Shows
ATTACH;FMTTYPE=image/jpeg:https://blog.afepower.com/wp-content/uploads/2022/07/nissfest-2022-irwindale.jpg
ORGANIZER;CN="NISSFEST":MAILTO:sales@nissfest.com
END:VEVENT
BEGIN:VEVENT
DTSTART;TZID=America/Los_Angeles:20240901T100000
DTEND;TZID=America/Los_Angeles:20240901T160000
DTSTAMP:20260425T165947
CREATED:20240812T204807Z
LAST-MODIFIED:20240829T233218Z
UID:10000069-1725184800-1725206400@blog.afepower.com
SUMMARY:Fall Fest 2.0 - Irwindale Speedway - Sun\, Sept 1st at 10am-4pm
DESCRIPTION:We are going to Fall Fest\, are you?\n			\n			\n				\n				\n				\n				\n			\n				\n				\n			\n				\n				\n				\n				\n				\n				\n				\n				\n				\n				\n				\n				\n				\n				\n				\n				\n				\n				LET THE MOPARS OUT!\n			\n			\n				\n				\n				\n				\n			\n				\n				\n				\n				\n				\n				\n				\n				\n				\n				\n				\n			\n			\n				\n				\n				\n				\n				\n				\n				\n				\n				\n				\nFall Fest\, the biggest and baddest Mopar car event on the west coast\, bringing together Mopar enthusiasts from all over the country. We welcome new and old Mopars\, as we share a passion for what the Dodge\, Chrysler\, Ram\, and Jeep brand have done. With a variety of activities\, Fall Fest is the ultimate event for Mopar lovers. Whether you’re a collector or just a fan\, we invite you to join us for a weekend of fun\, friends\, and the most amazing displays of muscle cars. Come join us and experience the thrill of Fall Fest! 
URL:https://blog.afepower.com/event/fall-fest-2-0-irwindale-speedway-sun-sept-1st-at-10am-4pm/
LOCATION:Irwindale Speedway\, 500 Speedway Dr.\, Irwindale\, CA\, 91706
CATEGORIES:Outside Car Shows
ATTACH;FMTTYPE=image/gif:https://blog.afepower.com/wp-content/uploads/2024/08/2024-Fall-Fest.gif
END:VEVENT
BEGIN:VEVENT
DTSTART;VALUE=DATE:20251104
DTEND;VALUE=DATE:20251108
DTSTAMP:20260425T165947
CREATED:20250220T224539Z
LAST-MODIFIED:20251009T203259Z
UID:10000086-1762214400-1762559999@blog.afepower.com
SUMMARY:SEMA 2025: Las Vegas\, NV
DESCRIPTION:The SEMA Show takes place:  \n			\n				\n				\n				\n				\n				\nNovember 4-7\, 2025\nLas Vegas Convention Center\n3150 Paradise Road\, Las Vegas\, NV 89109\nhttps://www.semashow.com/\naFe POWER Booth # 23343\nThe SEMA Show is a trade-only event and only open to the general public on Friday\, November 7th.\nhttps://www.semashow.com/public\n\n			\n			\n				\n				\n				\n				\n			\n				\n				\n			\n				\n				\n				\n				\n				\n				\n				\n				\n				\n				\n				\n				\n				\n				\n				\n				\n				\n				 \n \n \nABOUT THE SEMA SHOW\nThere is no other trade show on the planet where you can see thousands of product innovations from new and iconic exhibitors\, experience the latest custom vehicle trends\, get access to free professional skill-enhancing education sessions and make career-changing connections.
URL:https://blog.afepower.com/event/sema-2025-las-vegas-nv-nov-4-7/
LOCATION:Las Vegas Convention Center\, 3150 Paradise Rd.\, Las Vegas\, NV\, 89109\, United States
CATEGORIES:Outside Car Shows,Tradeshows
ATTACH;FMTTYPE=image/png:https://blog.afepower.com/wp-content/uploads/2024/06/sema-show-vector-logo-2.png
ORGANIZER;CN="SEMA":MAILTO:semashow@sema.org
END:VEVENT
BEGIN:VEVENT
DTSTART;TZID=America/Los_Angeles:20251123T080000
DTEND;TZID=America/Los_Angeles:20251123T110000
DTSTAMP:20260425T165947
CREATED:20251008T214755Z
LAST-MODIFIED:20251015T204117Z
UID:10000099-1763884800-1763895600@blog.afepower.com
SUMMARY:GR Movement @ Longo Toyota
DESCRIPTION:Toy Drive & Car Show\n\nSunday\, November 23\, 2025\n8:00 AM  11:00 AM\nhttps://www.gr-movement.com/events/toy-drive-car-show-1\n\n\n\n\n\n\n\n\n\n\n\n\n\n			\n				\n				\n				\n				\n				\n\n\n\n\n\n\n\nJoin us for our Annual GRM x Longo Toyota/Longo Lexus Toy Drive!\nThis is the best time of the year for us because we get to give back to the community! All donations will be donated to Sonkei Blue Tots On Patrol (LAPD) and The Hope House. We will have display cars from SEMA and GTA (Global Time Attack) in attendance\, as well as more amazing builds. There will also be some amazing food vendors\, music\, activities\, and more… \nSo\, don’t miss out and register your car today! ALL MAKES AND MODELS ARE WELCOME! \n***FOR EVERY $15 DOLLAR OR MORE UNWRAPPED BRAND NEW TOY RECEIVE A RAFFLE TICKET. ADDITIONAL TICKETS WILL BE AVAILABLE AT $5 EACH***
URL:https://blog.afepower.com/event/gr-movement-longo-toyota/
LOCATION:Longo Toyota\, 3534 Peck Rd.\, El Monte\, CA\, 91731
CATEGORIES:Outside Car Shows
ATTACH;FMTTYPE=image/png:https://blog.afepower.com/wp-content/uploads/2025/10/GR-Movement.png
END:VEVENT
BEGIN:VEVENT
DTSTART;TZID=America/Los_Angeles:20260228T160000
DTEND;TZID=America/Los_Angeles:20260228T220000
DTSTAMP:20260425T165947
CREATED:20260210T173335Z
LAST-MODIFIED:20260211T185621Z
UID:10000107-1772294400-1772316000@blog.afepower.com
SUMMARY:Cali Creaming - LA Convention Center\, CA
DESCRIPTION:Cali Creaming is a big\, energy-packed car culture event/car show series that’s grown into a popular automotive lifestyle gathering — especially in California and other Western states. It’s not just your typical static show; it blends show cars\, activities\, vendors\, music\, and community vibes into one automotive-centric experience. \n• A car show and automotive lifestyle event that attracts enthusiasts of all types: imports\, domestics\, Euro\, JDM\, stance cars\, performance builds\, and custom rides.• It’s all about celebrating car culture\, meeting other enthusiasts\, showing off vehicles\, and enjoying activities together.• These events are usually family-friendly and community oriented\, with a relaxed\, fun vibe and plenty of things to do beyond just looking at cars \nhttps://www.instagram.com/CALICREAMING/ \n 
URL:https://blog.afepower.com/event/32018/
LOCATION:Los Angeles Convention Center\, 1201 S Figueroa St.\, Los Angeles\, 90015\, United States
CATEGORIES:Outside Car Shows
ATTACH;FMTTYPE=image/webp:https://blog.afepower.com/wp-content/uploads/2026/02/Cali-Creaming-2026.webp
END:VEVENT
BEGIN:VEVENT
DTSTART;TZID=America/Los_Angeles:20260419T080000
DTEND;TZID=America/Los_Angeles:20260419T110000
DTSTAMP:20260425T165947
CREATED:20260325T205725Z
LAST-MODIFIED:20260325T212918Z
UID:10000111-1776585600-1776596400@blog.afepower.com
SUMMARY:GR Movement: Crown\, Cars\, & Coffee- Ontario\, CA
DESCRIPTION:GR Movement x Crown Toyota\nCrown\, Cars and Coffee\n\nPriority Parking for Toyota and Lexus Vehicles\nAll Makes and Models Welcome\nMusic Curated by: DJ Erok\nMusic – Giveaways – Food and Drink Vendors
URL:https://blog.afepower.com/event/gr-movement-crown-cars-coffee-ontario-ca/
LOCATION:Crown Toyota\, 1201 Kettering Drive\, Ontario\, CA\, 91761
CATEGORIES:Outside Car Shows
ATTACH;FMTTYPE=image/jpeg:https://blog.afepower.com/wp-content/uploads/2026/03/GR-Movement-Crown-Cars-Coffee-1.jpg
END:VEVENT
END:VCALENDAR