BEGIN:VCALENDAR
VERSION:2.0
PRODID:-//aFe POWER Blog, News &amp; Events - ECPv6.15.20//NONSGML v1.0//EN
CALSCALE:GREGORIAN
METHOD:PUBLISH
X-ORIGINAL-URL:https://blog.afepower.com
X-WR-CALDESC:Events for aFe POWER Blog, News &amp; Events
REFRESH-INTERVAL;VALUE=DURATION:PT1H
X-Robots-Tag:noindex
X-PUBLISHED-TTL:PT1H
BEGIN:VTIMEZONE
TZID:America/Los_Angeles
BEGIN:DAYLIGHT
TZOFFSETFROM:-0800
TZOFFSETTO:-0700
TZNAME:PDT
DTSTART:20210314T100000
END:DAYLIGHT
BEGIN:STANDARD
TZOFFSETFROM:-0700
TZOFFSETTO:-0800
TZNAME:PST
DTSTART:20211107T090000
END:STANDARD
BEGIN:DAYLIGHT
TZOFFSETFROM:-0800
TZOFFSETTO:-0700
TZNAME:PDT
DTSTART:20220313T100000
END:DAYLIGHT
BEGIN:STANDARD
TZOFFSETFROM:-0700
TZOFFSETTO:-0800
TZNAME:PST
DTSTART:20221106T090000
END:STANDARD
BEGIN:DAYLIGHT
TZOFFSETFROM:-0800
TZOFFSETTO:-0700
TZNAME:PDT
DTSTART:20230312T100000
END:DAYLIGHT
BEGIN:STANDARD
TZOFFSETFROM:-0700
TZOFFSETTO:-0800
TZNAME:PST
DTSTART:20231105T090000
END:STANDARD
END:VTIMEZONE
BEGIN:VEVENT
DTSTART;TZID=America/Los_Angeles:20220821T080000
DTEND;TZID=America/Los_Angeles:20220821T100000
DTSTAMP:20260420T124839
CREATED:20220718T163441Z
LAST-MODIFIED:20220817T205305Z
UID:10000030-1661068800-1661076000@blog.afepower.com
SUMMARY:Cars & Cafe: Aug 21\, 2022
DESCRIPTION:The theme for this Cars & Cafe is: Sport Compact cars featuring Takeda!\n			\n				\n				\n				\n				\n				Cars & Cafe is our in-house car show to allow our enthusiasts to showcase their cars. Hundreds of automotive diehards are waking up to secure the best parking spots for their pride and joy and “talk cars” with other like-minded individuals with gasoline running through their veins. \nSpread the word with your car-friends on Facebook and Instagram on our next Cars & Cafe!
URL:https://blog.afepower.com/event/cars-cafe-august-2022/
LOCATION:aFe POWER Cars & Cafe\, 1375 Sampson\, Corona\, CA\, 92879\, United States
CATEGORIES:Cars & Cafe Shows
ATTACH;FMTTYPE=image/jpeg:https://blog.afepower.com/wp-content/uploads/2022/07/cars-and-cafe02.jpg
END:VEVENT
END:VCALENDAR